BEGIN:VCALENDAR
PRODID:-//Zoho Corporation//Zoho Calendar-US//EN
VERSION:2.0
X-WR-CALNAME:Berliner Kandidatinnen
X-WR-TIMEZONE:GMT
CALSCALE:GREGORIAN
METHOD:PUBLISH
BEGIN:VEVENT
SUMMARY:Veranstaltung der Spastikerhilfe
DESCRIPTION:Ulrike wird auf dem Podium sein, weitere Pirat*en sind zur Unterstützung dabei. 
DTSTART:20130829T170000Z
DTEND:20130829T190000Z
LOCATION:Kulturbrauerei
CLASS:PUBLIC
IMPORTANT:0
STATUS:CONFIRMED
UID:ps292dWKQiGD3wgVKrDJqx_akulm-EOPtLvLAHHH9nA=
TRANSP:OPAQUE
PRIORITY:5
CREATED:20130509T155641Z
LAST-MODIFIED:20130509T155731Z
DTSTAMP:20210226T122243Z
ORGANIZER;CN=bertapetra:MAILTO:petra.pirat@gmx.de
END:VEVENT
BEGIN:VEVENT
SUMMARY:CSD
DESCRIPTION:
DTSTART;VALUE=DATE:20130622
DTEND;VALUE=DATE:20130623
LOCATION:Berlin\, mehrere Bezirke
CLASS:PUBLIC
IMPORTANT:0
STATUS:CONFIRMED
UID:nEBdjcQaT16yijMhqSBa_JbROR676EM2o9x4bRnH6_M=
TRANSP:OPAQUE
PRIORITY:5
CREATED:20130509T155437Z
LAST-MODIFIED:20130509T155453Z
DTSTAMP:20210226T122243Z
ORGANIZER;CN=bertapetra:MAILTO:petra.pirat@gmx.de
END:VEVENT
BEGIN:VEVENT
SUMMARY:Motzstraßenfest
DESCRIPTION:Wichtiger Termin für die Berliner Piraten! Dabei sein, Flyer verteilen, Aktionen machen!
DTSTART;VALUE=DATE:20130615
DTEND;VALUE=DATE:20130617
LOCATION:Motzstraße / Schöneberg
CLASS:PUBLIC
IMPORTANT:0
STATUS:CONFIRMED
UID:QAPgQAF3Te6x1lRsRH-oKkQy_NZ74kJKjtGziycV-bc=
TRANSP:OPAQUE
PRIORITY:5
CREATED:20130509T155257Z
LAST-MODIFIED:20130509T155417Z
DTSTAMP:20210226T122243Z
ORGANIZER;CN=bertapetra:MAILTO:petra.pirat@gmx.de
END:VEVENT
BEGIN:VEVENT
SUMMARY:DasCamp
DESCRIPTION:
DTSTART;VALUE=DATE:20130614
DTEND;VALUE=DATE:20130617
LOCATION:Thüringen
CLASS:PUBLIC
IMPORTANT:0
STATUS:CONFIRMED
UID:nmkZ_NVsSHWwJHuByuzbyvfapt4-OkU0gwt3GLHhuNk=
TRANSP:OPAQUE
PRIORITY:5
CREATED:20130509T155107Z
LAST-MODIFIED:20130509T155230Z
DTSTAMP:20210226T122243Z
ORGANIZER;CN=bertapetra:MAILTO:petra.pirat@gmx.de
URL:http://dascamp.net
END:VEVENT
BEGIN:VEVENT
SUMMARY:Kandidatinnentreffen
DESCRIPTION:
DTSTART:20130508T150000Z
DTEND:20130508T170000Z
LOCATION:
CLASS:PUBLIC
IMPORTANT:0
STATUS:CONFIRMED
UID:HEQoHKW7SBOuMXyM5JmBwXoMylJzqUl2ld0VDPMucHM=
TRANSP:OPAQUE
PRIORITY:5
CREATED:20130508T161318Z
LAST-MODIFIED:20130508T180449Z
DTSTAMP:20210226T122243Z
ORGANIZER;CN=bertapetra:MAILTO:petra.pirat@gmx.de
ATTENDEE;CUTYPE=INDIVIDUAL;ROLE=REQ-PARTICIPANT;PARTSTAT=ACCEPTED:MAILTO:petra.pirat@gmx.de
END:VEVENT
BEGIN:VEVENT
SUMMARY:Umweltfestival
DESCRIPTION:Die Piraten sind mit einem Stand, Flyern und wahrscheinlich Kressesamen in bedruckten tütchen dabei! Hinkommen und am Sonntag bei der Sternfahrt mitmachen! http://wiki.piratenpartei.de/BE:Squads/Umweltfestival
DTSTART;VALUE=DATE:20130601
DTEND;VALUE=DATE:20130603
LOCATION:Brandenburger Tor
CLASS:PUBLIC
IMPORTANT:0
STATUS:CONFIRMED
UID:rVKdfXhZQHulWpgfOM9znYRL31Ip_Urymokf6whY20M=
TRANSP:OPAQUE
PRIORITY:5
CREATED:20130509T153309Z
LAST-MODIFIED:20130509T153615Z
DTSTAMP:20210226T122243Z
ORGANIZER;CN=bertapetra:MAILTO:petra.pirat@gmx.de
END:VEVENT
BEGIN:VEVENT
SUMMARY:Kandidatentreffen in Hessen
DESCRIPTION:
DTSTART;VALUE=DATE:20130601
DTEND;VALUE=DATE:20130603
LOCATION:Jugendherberge Helmarshausen 
CLASS:PUBLIC
IMPORTANT:0
STATUS:CONFIRMED
UID:f8k8sn8wRYa-xtcvG3qqJa9nLjBbKUIWnqTVJhQNdEQ=
TRANSP:OPAQUE
PRIORITY:5
CREATED:20130509T153150Z
LAST-MODIFIED:20130509T153227Z
DTSTAMP:20210226T122243Z
ORGANIZER;CN=bertapetra:MAILTO:petra.pirat@gmx.de
URL:http://wiki.piratenpartei.de/Wahlen/Bund/2013/Kandidatentreffen
END:VEVENT
BEGIN:VEVENT
SUMMARY:Wahlauftaktveranstaltung des LV Brandenburg
DESCRIPTION:Die Veranstaltung ist offen und frei wie immer. Eingeladen ist ein jeder\nPirat und Unterstützer. Besonders möchten wir die Direktkandidaten und\nLandeslistenkandidaten bitten zu erscheinen. (Einige haben schon\nzugesagt) Da Presse/Funk/Fernsehen ;-) anwesend sein wird, sollte jeder\ndie Möglichkeit nutzen um sich und seine Themen zur BTW darzustellen.\n\nWasser passt zu uns und wenn wir dann noch genügend orange Fahnen\nmitbringen, werden sich die Piraten gut präsentieren.\nKosten wird das ganze fast "nix" außer ein wenig Spesen für die\ngeladenen Presseleute.
DTSTART:20130525T120000Z
DTEND:20130525T140000Z
LOCATION:Restaurantschiff "John - Barnett" an der Schiffbauergasse
CLASS:PUBLIC
IMPORTANT:0
STATUS:CONFIRMED
UID:VFAisilATcm77y0MDzIft4kENIm0EE0emMNykvDQunQ=
TRANSP:OPAQUE
PRIORITY:5
CREATED:20130509T152723Z
LAST-MODIFIED:20130509T153037Z
DTSTAMP:20210226T122243Z
ORGANIZER;CN=bertapetra:MAILTO:petra.pirat@gmx.de
END:VEVENT
END:VCALENDAR
